Package: lisaClust Version: 1.15.6 Command: /Library/Frameworks/R.framework/Resources/bin/R CMD INSTALL lisaClust StartedAt: 2025-02-09 15:28:45 -0500 (Sun, 09 Feb 2025) EndedAt: 2025-02-09 15:28:57 -0500 (Sun, 09 Feb 2025) EllapsedTime: 11.3 seconds RetCode: 0 Status: OK