Package: lisaClust Version: 1.15.6 Command: rm -rf lisaClust.buildbin-libdir && mkdir lisaClust.buildbin-libdir && /Users/biocbuild/BBS/utils/build-universal.sh lisaClust_1.15.6.tar.gz /Library/Frameworks/R.framework/Resources/bin/R lisaClust.buildbin-libdir StartedAt: 2025-02-10 01:00:11 -0500 (Mon, 10 Feb 2025) EndedAt: 2025-02-10 01:00:53 -0500 (Mon, 10 Feb 2025) EllapsedTime: 41.8 seconds RetCode: 0 Status: OK PackageFile: lisaClust_1.15.6.tgz PackageFileSize: 2.635 MiB