Package: lisaClust Version: 1.15.6 Command: /Library/Frameworks/R.framework/Resources/bin/R CMD build --keep-empty-dirs --no-resave-data lisaClust StartedAt: 2025-02-09 17:15:48 -0500 (Sun, 09 Feb 2025) EndedAt: 2025-02-09 17:20:41 -0500 (Sun, 09 Feb 2025) EllapsedTime: 293.8 seconds RetCode: 0 Status: OK PackageFile: lisaClust_1.15.6.tar.gz PackageFileSize: 2.553 MiB