Package: lisaClust Version: 1.15.6 Command: /Library/Frameworks/R.framework/Resources/bin/R CMD INSTALL lisaClust StartedAt: 2025-02-12 15:44:33 -0500 (Wed, 12 Feb 2025) EndedAt: 2025-02-12 15:45:08 -0500 (Wed, 12 Feb 2025) EllapsedTime: 35.1 seconds RetCode: 0 Status: OK