Package: lisaClust Version: 1.15.6 Command: /home/biocbuild/bbs-3.21-bioc/R/bin/R CMD build --keep-empty-dirs --no-resave-data lisaClust StartedAt: 2025-02-09 17:52:42 -0500 (Sun, 09 Feb 2025) EndedAt: 2025-02-09 17:57:05 -0500 (Sun, 09 Feb 2025) EllapsedTime: 263.3 seconds RetCode: 0 Status: OK PackageFile: lisaClust_1.15.6.tar.gz PackageFileSize: 2.385 MiB