Package: lisaClust Version: 1.15.6 Command: /home/biocbuild/bbs-3.21-bioc/R/bin/R CMD check --install=check:lisaClust.install-out.txt --library=/home/biocbuild/bbs-3.21-bioc/R/site-library --timings lisaClust_1.15.6.tar.gz StartedAt: 2025-02-12 23:39:54 -0500 (Wed, 12 Feb 2025) EndedAt: 2025-02-12 23:48:39 -0500 (Wed, 12 Feb 2025) EllapsedTime: 524.9 seconds RetCode: 0 Status: OK CheckDir: lisaClust.Rcheck Warnings: 0