Package: lisaClust Version: 1.15.6 Command: /home/biocbuild/bbs-3.21-bioc/R/bin/R CMD INSTALL lisaClust StartedAt: 2025-02-09 15:37:13 -0500 (Sun, 09 Feb 2025) EndedAt: 2025-02-09 15:37:41 -0500 (Sun, 09 Feb 2025) EllapsedTime: 27.4 seconds RetCode: 0 Status: OK