Package: lisaClust Version: 1.15.6 Command: chmod a+r lisaClust -R && E:\biocbuild\bbs-3.21-bioc\R\bin\R.exe CMD build --keep-empty-dirs --no-resave-data lisaClust StartedAt: 2025-02-09 19:34:39 -0500 (Sun, 09 Feb 2025) EndedAt: 2025-02-09 19:40:06 -0500 (Sun, 09 Feb 2025) EllapsedTime: 327.2 seconds RetCode: 0 Status: OK PackageFile: lisaClust_1.15.6.tar.gz PackageFileSize: 863.1 KiB