Package: loci2path Version: 1.27.0 Command: rm -rf loci2path.buildbin-libdir && mkdir loci2path.buildbin-libdir && /Users/biocbuild/BBS/utils/build-universal.sh loci2path_1.27.0.tar.gz /Library/Frameworks/R.framework/Resources/bin/R loci2path.buildbin-libdir StartedAt: 2025-02-09 22:19:18 -0500 (Sun, 09 Feb 2025) EndedAt: 2025-02-09 22:19:24 -0500 (Sun, 09 Feb 2025) EllapsedTime: 6.1 seconds RetCode: 0 Status: OK PackageFile: loci2path_1.27.0.tgz PackageFileSize: 806.5 KiB