Package: loci2path Version: 1.27.0 Command: /Library/Frameworks/R.framework/Resources/bin/R CMD build --keep-empty-dirs --no-resave-data loci2path StartedAt: 2025-02-09 16:46:36 -0500 (Sun, 09 Feb 2025) EndedAt: 2025-02-09 16:46:45 -0500 (Sun, 09 Feb 2025) EllapsedTime: 9.1 seconds RetCode: 0 Status: OK PackageFile: loci2path_1.27.0.tar.gz PackageFileSize: 609.7 KiB