Package: loci2path Version: 1.27.0 Command: /Library/Frameworks/R.framework/Resources/bin/R CMD INSTALL loci2path StartedAt: 2025-02-09 15:09:12 -0500 (Sun, 09 Feb 2025) EndedAt: 2025-02-09 15:09:17 -0500 (Sun, 09 Feb 2025) EllapsedTime: 5.0 seconds RetCode: 0 Status: OK