Package: loci2path Version: 1.27.0 Command: /Library/Frameworks/R.framework/Resources/bin/R CMD INSTALL loci2path StartedAt: 2025-02-09 15:15:49 -0500 (Sun, 09 Feb 2025) EndedAt: 2025-02-09 15:16:06 -0500 (Sun, 09 Feb 2025) EllapsedTime: 16.9 seconds RetCode: 0 Status: OK