Package: loci2path Version: 1.27.0 Command: /home/biocbuild/bbs-3.21-bioc/R/bin/R CMD build --keep-empty-dirs --no-resave-data loci2path StartedAt: 2025-02-09 17:53:02 -0500 (Sun, 09 Feb 2025) EndedAt: 2025-02-09 17:53:23 -0500 (Sun, 09 Feb 2025) EllapsedTime: 21.1 seconds RetCode: 0 Status: OK PackageFile: loci2path_1.27.0.tar.gz PackageFileSize: 608.4 KiB