Package: loci2path Version: 1.27.0 Command: E:\biocbuild\bbs-3.21-bioc\R\bin\R.exe CMD INSTALL loci2path StartedAt: 2025-02-09 15:44:00 -0500 (Sun, 09 Feb 2025) EndedAt: 2025-02-09 15:44:42 -0500 (Sun, 09 Feb 2025) EllapsedTime: 41.4 seconds RetCode: 0 Status: OK