Package: logicFS Version: 2.27.0 Command: /home/biocbuild/R/R/bin/R CMD INSTALL logicFS StartedAt: 2025-01-29 20:19:49 -0000 (Wed, 29 Jan 2025) EndedAt: 2025-01-29 20:20:01 -0000 (Wed, 29 Jan 2025) EllapsedTime: 11.7 seconds RetCode: 0 Status: OK