Package: logicFS Version: 2.27.0 Command: /Library/Frameworks/R.framework/Resources/bin/R CMD INSTALL logicFS StartedAt: 2025-02-09 15:34:28 -0500 (Sun, 09 Feb 2025) EndedAt: 2025-02-09 15:34:41 -0500 (Sun, 09 Feb 2025) EllapsedTime: 13.0 seconds RetCode: 0 Status: OK