Package: logicFS Version: 2.27.0 Command: /home/biocbuild/bbs-3.21-bioc/R/bin/R CMD check --install=check:logicFS.install-out.txt --library=/home/biocbuild/bbs-3.21-bioc/R/site-library --timings logicFS_2.27.0.tar.gz StartedAt: 2025-02-09 23:40:05 -0500 (Sun, 09 Feb 2025) EndedAt: 2025-02-09 23:41:02 -0500 (Sun, 09 Feb 2025) EllapsedTime: 57.0 seconds RetCode: 0 Status: OK CheckDir: logicFS.Rcheck Warnings: 0