Package: logicFS Version: 2.27.0 Command: rm -rf logicFS.buildbin-libdir && mkdir logicFS.buildbin-libdir && E:\biocbuild\bbs-3.21-bioc\R\bin\R.exe CMD INSTALL --build --library=logicFS.buildbin-libdir logicFS_2.27.0.tar.gz StartedAt: 2025-02-10 08:02:29 -0500 (Mon, 10 Feb 2025) EndedAt: 2025-02-10 08:03:04 -0500 (Mon, 10 Feb 2025) EllapsedTime: 35.2 seconds RetCode: 0 Status: OK PackageFile: logicFS_2.27.0.zip PackageFileSize: 513 KiB