Package: lpNet Version: 2.39.0 Command: /Library/Frameworks/R.framework/Resources/bin/R CMD check --install=check:lpNet.install-out.txt --library=/Library/Frameworks/R.framework/Resources/library --no-vignettes --timings lpNet_2.39.0.tar.gz StartedAt: 2025-02-04 19:54:33 -0500 (Tue, 04 Feb 2025) EndedAt: 2025-02-04 19:54:50 -0500 (Tue, 04 Feb 2025) EllapsedTime: 17.2 seconds RetCode: 0 Status: WARNINGS CheckDir: lpNet.Rcheck Warnings: 1