Package: lpNet Version: 2.39.0 Command: /Library/Frameworks/R.framework/Resources/bin/R CMD INSTALL lpNet StartedAt: 2025-02-04 15:03:26 -0500 (Tue, 04 Feb 2025) EndedAt: 2025-02-04 15:03:31 -0500 (Tue, 04 Feb 2025) EllapsedTime: 5.1 seconds RetCode: 0 Status: OK