Package: lpNet Version: 2.39.0 Command: /Library/Frameworks/R.framework/Resources/bin/R CMD check --install=check:lpNet.install-out.txt --library=/Library/Frameworks/R.framework/Resources/library --no-vignettes --timings lpNet_2.39.0.tar.gz StartedAt: 2025-02-09 21:36:17 -0500 (Sun, 09 Feb 2025) EndedAt: 2025-02-09 21:37:11 -0500 (Sun, 09 Feb 2025) EllapsedTime: 53.4 seconds RetCode: 0 Status: WARNINGS CheckDir: lpNet.Rcheck Warnings: 1