Package: lpNet Version: 2.39.0 Command: /home/biocbuild/bbs-3.21-bioc/R/bin/R CMD check --install=check:lpNet.install-out.txt --library=/home/biocbuild/bbs-3.21-bioc/R/site-library --timings lpNet_2.39.0.tar.gz StartedAt: 2025-02-09 23:41:12 -0500 (Sun, 09 Feb 2025) EndedAt: 2025-02-09 23:42:09 -0500 (Sun, 09 Feb 2025) EllapsedTime: 57.2 seconds RetCode: 0 Status: WARNINGS CheckDir: lpNet.Rcheck Warnings: 1