Package: lpsymphony Version: 1.35.0 Command: rm -rf lpsymphony.buildbin-libdir && mkdir lpsymphony.buildbin-libdir && /Users/biocbuild/BBS/utils/build-universal.sh lpsymphony_1.35.0.tar.gz /Library/Frameworks/R.framework/Resources/bin/R lpsymphony.buildbin-libdir StartedAt: 2025-02-04 22:21:14 -0500 (Tue, 04 Feb 2025) EndedAt: 2025-02-04 22:25:22 -0500 (Tue, 04 Feb 2025) EllapsedTime: 247.9 seconds RetCode: 0 Status: OK PackageFile: lpsymphony_1.35.0.tgz PackageFileSize: 1.85 MiB