Package: lpsymphony Version: 1.35.0 Command: /home/biocbuild/bbs-3.21-bioc/R/bin/R CMD build --keep-empty-dirs --no-resave-data lpsymphony StartedAt: 2025-02-04 17:51:00 -0500 (Tue, 04 Feb 2025) EndedAt: 2025-02-04 17:59:02 -0500 (Tue, 04 Feb 2025) EllapsedTime: 482.7 seconds RetCode: 0 Status: OK PackageFile: lpsymphony_1.35.0.tar.gz PackageFileSize: 11.86 MiB