Package: lpsymphony Version: 1.35.0 Command: /home/biocbuild/bbs-3.21-bioc/R/bin/R CMD INSTALL lpsymphony StartedAt: 2025-02-04 15:01:03 -0500 (Tue, 04 Feb 2025) EndedAt: 2025-02-04 15:08:32 -0500 (Tue, 04 Feb 2025) EllapsedTime: 448.5 seconds RetCode: 0 Status: OK