Package: lpsymphony Version: 1.35.0 Command: rm -rf lpsymphony.buildbin-libdir && mkdir lpsymphony.buildbin-libdir && E:\biocbuild\bbs-3.21-bioc\R\bin\R.exe CMD INSTALL --build --library=lpsymphony.buildbin-libdir lpsymphony_1.35.0.tar.gz StartedAt: 2025-02-10 08:02:55 -0500 (Mon, 10 Feb 2025) EndedAt: 2025-02-10 08:03:59 -0500 (Mon, 10 Feb 2025) EllapsedTime: 63.9 seconds RetCode: 0 Status: OK PackageFile: lpsymphony_1.35.0.zip PackageFileSize: 2.726 MiB