Package: lpsymphony Version: 1.35.0 Command: chmod a+r lpsymphony -R && E:\biocbuild\bbs-3.21-bioc\R\bin\R.exe CMD build --keep-empty-dirs --no-resave-data lpsymphony StartedAt: 2025-02-09 19:35:19 -0500 (Sun, 09 Feb 2025) EndedAt: 2025-02-09 19:38:06 -0500 (Sun, 09 Feb 2025) EllapsedTime: 166.3 seconds RetCode: 0 Status: OK PackageFile: lpsymphony_1.35.0.tar.gz PackageFileSize: 11.43 MiB