Package: lpsymphony Version: 1.35.0 Command: E:\biocbuild\bbs-3.21-bioc\R\bin\R.exe CMD check --no-multiarch --install=check:lpsymphony.install-out.txt --library=E:\biocbuild\bbs-3.21-bioc\R\library --no-vignettes --timings lpsymphony_1.35.0.tar.gz StartedAt: 2025-02-10 02:26:53 -0500 (Mon, 10 Feb 2025) EndedAt: 2025-02-10 02:28:21 -0500 (Mon, 10 Feb 2025) EllapsedTime: 88.1 seconds RetCode: 0 Status: WARNINGS CheckDir: lpsymphony.Rcheck Warnings: 1