Package: lumi Version: 2.59.0 Command: /home/biocbuild/R/R/bin/R CMD check --install=check:lumi.install-out.txt --library=/home/biocbuild/R/R/site-library --no-vignettes --timings lumi_2.59.0.tar.gz StartedAt: 2025-01-28 11:58:37 -0000 (Tue, 28 Jan 2025) EndedAt: 2025-01-28 12:08:23 -0000 (Tue, 28 Jan 2025) EllapsedTime: 585.7 seconds RetCode: 0 Status: WARNINGS CheckDir: lumi.Rcheck Warnings: 9