Package: lumi Version: 2.59.0 Command: /home/biocbuild/R/R/bin/R CMD INSTALL lumi StartedAt: 2025-01-29 20:34:40 -0000 (Wed, 29 Jan 2025) EndedAt: 2025-01-29 20:35:58 -0000 (Wed, 29 Jan 2025) EllapsedTime: 78.6 seconds RetCode: 0 Status: OK