Package: lumi Version: 2.59.0 Command: /Library/Frameworks/R.framework/Resources/bin/R CMD build --keep-empty-dirs --no-resave-data lumi StartedAt: 2025-02-12 17:13:13 -0500 (Wed, 12 Feb 2025) EndedAt: 2025-02-12 17:13:17 -0500 (Wed, 12 Feb 2025) EllapsedTime: 3.5 seconds RetCode: 0 Status: OK PackageFile: lumi_2.59.0.tar.gz PackageFileSize: 8.033 MiB