Package: lumi Version: 2.59.0 Command: /Library/Frameworks/R.framework/Resources/bin/R CMD check --install=check:lumi.install-out.txt --library=/Library/Frameworks/R.framework/Resources/library --no-vignettes --timings lumi_2.59.0.tar.gz StartedAt: 2025-02-12 21:24:14 -0500 (Wed, 12 Feb 2025) EndedAt: 2025-02-12 21:32:24 -0500 (Wed, 12 Feb 2025) EllapsedTime: 489.4 seconds RetCode: 0 Status: WARNINGS CheckDir: lumi.Rcheck Warnings: 3