Package: lumi Version: 2.59.0 Command: /home/biocbuild/bbs-3.21-bioc/R/bin/R CMD check --install=check:lumi.install-out.txt --library=/home/biocbuild/bbs-3.21-bioc/R/site-library --timings lumi_2.59.0.tar.gz StartedAt: 2025-02-09 23:41:29 -0500 (Sun, 09 Feb 2025) EndedAt: 2025-02-09 23:48:40 -0500 (Sun, 09 Feb 2025) EllapsedTime: 431.7 seconds RetCode: 0 Status: WARNINGS CheckDir: lumi.Rcheck Warnings: 3