Package: lumi Version: 2.59.0 Command: rm -rf lumi.buildbin-libdir && mkdir lumi.buildbin-libdir && E:\biocbuild\bbs-3.21-bioc\R\bin\R.exe CMD INSTALL --build --library=lumi.buildbin-libdir lumi_2.59.0.tar.gz StartedAt: 2025-02-10 08:03:01 -0500 (Mon, 10 Feb 2025) EndedAt: 2025-02-10 08:04:50 -0500 (Mon, 10 Feb 2025) EllapsedTime: 108.8 seconds RetCode: 0 Status: OK PackageFile: lumi_2.59.0.zip PackageFileSize: 4.734 MiB