Package: lumi Version: 2.59.0 Command: chmod a+r lumi -R && E:\biocbuild\bbs-3.21-bioc\R\bin\R.exe CMD build --keep-empty-dirs --no-resave-data lumi StartedAt: 2025-02-09 19:35:29 -0500 (Sun, 09 Feb 2025) EndedAt: 2025-02-09 19:35:39 -0500 (Sun, 09 Feb 2025) EllapsedTime: 10.7 seconds RetCode: 0 Status: OK PackageFile: lumi_2.59.0.tar.gz PackageFileSize: 8.033 MiB