Package: lumi Version: 2.59.0 Command: E:\biocbuild\bbs-3.21-bioc\R\bin\R.exe CMD check --no-multiarch --install=check:lumi.install-out.txt --library=E:\biocbuild\bbs-3.21-bioc\R\library --no-vignettes --timings lumi_2.59.0.tar.gz StartedAt: 2025-02-10 02:27:21 -0500 (Mon, 10 Feb 2025) EndedAt: 2025-02-10 02:35:59 -0500 (Mon, 10 Feb 2025) EllapsedTime: 518.4 seconds RetCode: 0 Status: WARNINGS CheckDir: lumi.Rcheck Warnings: 3