Package: lute Version: 1.3.0 Command: /Library/Frameworks/R.framework/Resources/bin/R CMD build --keep-empty-dirs --no-resave-data lute StartedAt: 2025-02-04 16:47:14 -0500 (Tue, 04 Feb 2025) EndedAt: 2025-02-04 16:47:35 -0500 (Tue, 04 Feb 2025) EllapsedTime: 21.3 seconds RetCode: 0 Status: OK PackageFile: lute_1.3.0.tar.gz PackageFileSize: 2.236 MiB