Package: lute Version: 1.3.0 Command: /Library/Frameworks/R.framework/Resources/bin/R CMD check --install=check:lute.install-out.txt --library=/Library/Frameworks/R.framework/Resources/library --no-vignettes --timings lute_1.3.0.tar.gz StartedAt: 2025-02-04 19:54:50 -0500 (Tue, 04 Feb 2025) EndedAt: 2025-02-04 19:56:06 -0500 (Tue, 04 Feb 2025) EllapsedTime: 76.0 seconds RetCode: 0 Status: OK CheckDir: lute.Rcheck Warnings: 0