Package: lute Version: 1.3.0 Command: /Library/Frameworks/R.framework/Resources/bin/R CMD INSTALL lute StartedAt: 2025-02-04 15:25:33 -0500 (Tue, 04 Feb 2025) EndedAt: 2025-02-04 15:25:45 -0500 (Tue, 04 Feb 2025) EllapsedTime: 12.5 seconds RetCode: 0 Status: OK