Package: lute Version: 1.3.0 Command: /home/biocbuild/R/R/bin/R CMD build --keep-empty-dirs --no-resave-data lute StartedAt: 2025-01-28 23:57:10 -0000 (Tue, 28 Jan 2025) EndedAt: 2025-01-28 23:58:17 -0000 (Tue, 28 Jan 2025) EllapsedTime: 67.0 seconds RetCode: 0 Status: OK PackageFile: lute_1.3.0.tar.gz PackageFileSize: 2.271 MiB