Package: lute Version: 1.3.0 Command: rm -rf lute.buildbin-libdir && mkdir lute.buildbin-libdir && /Users/biocbuild/BBS/utils/build-universal.sh lute_1.3.0.tar.gz /Library/Frameworks/R.framework/Resources/bin/R lute.buildbin-libdir StartedAt: 2025-02-05 00:46:47 -0500 (Wed, 05 Feb 2025) EndedAt: 2025-02-05 00:47:33 -0500 (Wed, 05 Feb 2025) EllapsedTime: 45.4 seconds RetCode: 0 Status: OK PackageFile: lute_1.3.0.tgz PackageFileSize: 2.087 MiB