Package: lute Version: 1.3.0 Command: rm -rf lute.buildbin-libdir && mkdir lute.buildbin-libdir && E:\biocbuild\bbs-3.21-bioc\R\bin\R.exe CMD INSTALL --build --library=lute.buildbin-libdir lute_1.3.0.tar.gz StartedAt: 2025-02-05 08:14:33 -0500 (Wed, 05 Feb 2025) EndedAt: 2025-02-05 08:15:39 -0500 (Wed, 05 Feb 2025) EllapsedTime: 66.2 seconds RetCode: 0 Status: OK PackageFile: lute_1.3.0.zip PackageFileSize: 2.041 MiB