Package: lute Version: 1.3.0 Command: E:\biocbuild\bbs-3.21-bioc\R\bin\R.exe CMD INSTALL lute StartedAt: 2025-02-04 16:46:45 -0500 (Tue, 04 Feb 2025) EndedAt: 2025-02-04 16:47:36 -0500 (Tue, 04 Feb 2025) EllapsedTime: 51.0 seconds RetCode: 0 Status: OK