Package: m6Aboost Version: 1.13.0 Command: /Library/Frameworks/R.framework/Resources/bin/R CMD INSTALL m6Aboost StartedAt: 2025-02-09 15:23:37 -0500 (Sun, 09 Feb 2025) EndedAt: 2025-02-09 15:23:55 -0500 (Sun, 09 Feb 2025) EllapsedTime: 17.8 seconds RetCode: 0 Status: OK