Package: m6Aboost Version: 1.13.0 Command: /home/biocbuild/bbs-3.21-bioc/R/bin/R CMD build --keep-empty-dirs --no-resave-data m6Aboost StartedAt: 2025-02-09 17:53:44 -0500 (Sun, 09 Feb 2025) EndedAt: 2025-02-09 17:54:59 -0500 (Sun, 09 Feb 2025) EllapsedTime: 75.1 seconds RetCode: 0 Status: OK PackageFile: m6Aboost_1.13.0.tar.gz PackageFileSize: 759.6 KiB