Package: m6Aboost Version: 1.13.0 Command: /home/biocbuild/bbs-3.21-bioc/R/bin/R CMD check --install=check:m6Aboost.install-out.txt --library=/home/biocbuild/bbs-3.21-bioc/R/site-library --timings m6Aboost_1.13.0.tar.gz StartedAt: 2025-02-12 23:42:41 -0500 (Wed, 12 Feb 2025) EndedAt: 2025-02-12 23:48:35 -0500 (Wed, 12 Feb 2025) EllapsedTime: 354.5 seconds RetCode: 0 Status: OK CheckDir: m6Aboost.Rcheck Warnings: 0