Package: m6Aboost Version: 1.13.0 Command: /home/biocbuild/bbs-3.21-bioc/R/bin/R CMD INSTALL m6Aboost StartedAt: 2025-02-09 15:56:22 -0500 (Sun, 09 Feb 2025) EndedAt: 2025-02-09 15:57:09 -0500 (Sun, 09 Feb 2025) EllapsedTime: 46.6 seconds RetCode: 0 Status: OK