Package: m6Aboost Version: 1.13.0 Command: rm -rf m6Aboost.buildbin-libdir && mkdir m6Aboost.buildbin-libdir && E:\biocbuild\bbs-3.21-bioc\R\bin\R.exe CMD INSTALL --build --library=m6Aboost.buildbin-libdir m6Aboost_1.13.0.tar.gz StartedAt: 2025-02-13 08:14:19 -0500 (Thu, 13 Feb 2025) EndedAt: 2025-02-13 08:15:12 -0500 (Thu, 13 Feb 2025) EllapsedTime: 53.7 seconds RetCode: 0 Status: OK PackageFile: m6Aboost_1.13.0.zip PackageFileSize: 578.5 KiB