Package: m6Aboost Version: 1.13.0 Command: E:\biocbuild\bbs-3.21-bioc\R\bin\R.exe CMD INSTALL m6Aboost StartedAt: 2025-02-12 16:25:54 -0500 (Wed, 12 Feb 2025) EndedAt: 2025-02-12 16:26:51 -0500 (Wed, 12 Feb 2025) EllapsedTime: 56.6 seconds RetCode: 0 Status: OK