Package: mBPCR Version: 1.61.0 Command: /Library/Frameworks/R.framework/Resources/bin/R CMD build --keep-empty-dirs --no-resave-data mBPCR StartedAt: 2025-02-12 16:50:01 -0500 (Wed, 12 Feb 2025) EndedAt: 2025-02-12 16:50:26 -0500 (Wed, 12 Feb 2025) EllapsedTime: 25.3 seconds RetCode: 0 Status: OK PackageFile: mBPCR_1.61.0.tar.gz PackageFileSize: 835.8 KiB